BEGIN:VCALENDAR
VERSION:2.0
PRODID:-//Squarespace Inc/Squarespace 6//v6//EN
BEGIN:VEVENT
UID:5a7505dee4966bf9ce154ad8@squarespace.com
DTSTAMP:20190618T082255Z
DTSTART:20180529T133000Z
DTEND:20180626T150000Z
SUMMARY:Kundalini Yoga Tuesday Morning Class
END:VEVENT
END:VCALENDAR
