BEGIN:VCALENDAR
VERSION:2.0
PRODID:-//Squarespace Inc/Squarespace 6//v6//EN
BEGIN:VEVENT
UID:5b33281b758d466cb59de22c@squarespace.com
DTSTAMP:20190618T082155Z
DTSTART:20180719T151500Z
DTEND:20180906T164500Z
SUMMARY:Kundalini Yoga Thursday Morning Class
GEO:-32.037605;115.786877
LOCATION:Yoga on Harris\, 15 Harris Street\, Palmyra\, WA\, 6157\, Australi
 a
END:VEVENT
END:VCALENDAR
