BEGIN:VCALENDAR
VERSION:2.0
PRODID:-//Squarespace Inc/Squarespace 6//v6//EN
BEGIN:VEVENT
UID:6003cf784f994d4e736848aa@squarespace.com
DTSTAMP:20210219T015720Z
DTSTART:20210205T000000Z
DTEND:20210402T010000Z
SUMMARY:the Game of Love ~ 9 weeks with the Mul Mantra ~ with 40 Day sadhan
 a
END:VEVENT
END:VCALENDAR
