BEGIN:VCALENDAR
VERSION:2.0
PRODID:-//Squarespace Inc/Squarespace 6//v6//EN
BEGIN:VEVENT
UID:6033157be647656718491ac8@squarespace.com
DTSTAMP:20210222T030908Z
DTSTART:20210228T180000Z
DTEND:20210228T210000Z
SUMMARY:Cup of Prayer Ocean of Compassion Workshop 
END:VEVENT
END:VCALENDAR
