BEGIN:VCALENDAR
VERSION:2.0
PRODID:-//Squarespace Inc/Squarespace 6//v6//EN
BEGIN:VEVENT
UID:6003edb93d757a3dbd1c47bb@squarespace.com
DTSTAMP:20210201T021603Z
DTSTART:20210209T001500Z
DTEND:20210406T004500Z
SUMMARY:Kundalini Yoga for Women 
GEO:-32.0376;115.78688
LOCATION:Yoga on harris\, 15 Harris Street\, Palmyra\, WA\, 6157\, Australi
 a
END:VEVENT
END:VCALENDAR
