BEGIN:VCALENDAR
VERSION:2.0
PRODID:-//Squarespace Inc/Squarespace 6//v6//EN
BEGIN:VEVENT
UID:5ffe996a72238a5c80e8e718@squarespace.com
DTSTAMP:20210127T074007Z
DTSTART:20210128T230000Z
DTEND:20210129T003000Z
SUMMARY:Full Moon Sunset Beach Meditation 
GEO:-32.023174;115.751538
LOCATION:Leighton Mosman Beach
END:VEVENT
END:VCALENDAR
