BEGIN:VCALENDAR
VERSION:2.0
PRODID:-//Squarespace Inc/Squarespace 6//v6//EN
BEGIN:VEVENT
UID:5ff45648775c5727d379e24b@squarespace.com
DTSTAMP:20210105T132314Z
DTSTART:20210122T020000Z
DTEND:20210122T030000Z
SUMMARY:Mantra Meditation Evenings
GEO:-32.0376;115.78688
LOCATION:Yoga on Harris\, 15 Harris St\, Palmyra 6157\, Australia
END:VEVENT
END:VCALENDAR
