BEGIN:VCALENDAR
VERSION:2.0
PRODID:-//Squarespace Inc/Squarespace 6//v6//EN
BEGIN:VEVENT
UID:5fd84312acce81371bf29326@squarespace.com
DTSTAMP:20201215T051813Z
DTSTART:20210101T110000Z
DTEND:20210105T123000Z
SUMMARY:Summer Intensive on the Beach 2021
GEO:-32.023174;115.751538
LOCATION:Leighton Mosman Beach
END:VEVENT
END:VCALENDAR
