BEGIN:VCALENDAR
VERSION:2.0
PRODID:-//Squarespace Inc/Squarespace 6//v6//EN
BEGIN:VEVENT
UID:5f54b93235cfcb0f5ce3e6d8@squarespace.com
DTSTAMP:20200906T105938Z
DTSTART:20200907T231500Z
DTEND:20200922T133000Z
SUMMARY:Kundalini Yoga for Women 
END:VEVENT
END:VCALENDAR
