BEGIN:VCALENDAR
VERSION:2.0
PRODID:-//Squarespace Inc/Squarespace 6//v6//EN
BEGIN:VEVENT
UID:5f54b78ba081cc5ab31ed2ba@squarespace.com
DTSTAMP:20200907T021223Z
DTSTART:20200910T230000Z
DTEND:20200925T003000Z
SUMMARY:Kundalini Yoga Thursday nights 
END:VEVENT
END:VCALENDAR
