BEGIN:VCALENDAR
VERSION:2.0
PRODID:-//Squarespace Inc/Squarespace 6//v6//EN
BEGIN:VEVENT
UID:5f745b7a0b9e3770a6ad5f8a@squarespace.com
DTSTAMP:20201006T112534Z
DTSTART:20201015T230000Z
DTEND:20201218T013000Z
SUMMARY:Kundalini Yoga Thursday nights 
END:VEVENT
END:VCALENDAR
