BEGIN:VCALENDAR
VERSION:2.0
PRODID:-//Squarespace Inc/Squarespace 6//v6//EN
BEGIN:VEVENT
UID:5efec56de00a235fe32eb5b0@squarespace.com
DTSTAMP:20200722T093808Z
DTSTART:20200723T230000Z
DTEND:20200904T003000Z
SUMMARY:Crystallising the Self 
GEO:-32.0376;115.78688
LOCATION:Yoga on Harris\, 15 Harris Street\, Palmyra\,\, Western Australia
END:VEVENT
END:VCALENDAR
