BEGIN:VCALENDAR
VERSION:2.0
PRODID:-//Squarespace Inc/Squarespace 6//v6//EN
BEGIN:VEVENT
UID:5f02f8e72535ee0273ef4137@squarespace.com
DTSTAMP:20200706T102754Z
DTSTART:20200720T231500Z
DTEND:20200901T004500Z
SUMMARY:Kundalini Yoga for Women ~ Essentials ~ a 7 week course 
GEO:-32.0376;115.78688
LOCATION:Yoga on Harris\, 15 Harris Street\, Palmyra
END:VEVENT
END:VCALENDAR
