BEGIN:VCALENDAR
VERSION:2.0
PRODID:-//Squarespace Inc/Squarespace 6//v6//EN
BEGIN:VEVENT
UID:5e8c067b14e7393e3841fcf7@squarespace.com
DTSTAMP:20200930T122217Z
DTSTART:20201014T140000Z
DTEND:20201216T160000Z
SUMMARY:Kundalini Yoga - 60 Minutes at Home 
END:VEVENT
END:VCALENDAR
