BEGIN:VCALENDAR
VERSION:2.0
PRODID:-//Squarespace Inc/Squarespace 6//v6//EN
BEGIN:VEVENT
UID:5ea2939bf3a4016bc4abdd12@squarespace.com
DTSTAMP:20200703T055605Z
DTSTART:20200604T230000Z
DTEND:20200703T003000Z
SUMMARY:Kundalini Yoga &amp\; Karam Kriya
END:VEVENT
END:VCALENDAR
