BEGIN:VCALENDAR
VERSION:2.0
PRODID:-//Squarespace Inc/Squarespace 6//v6//EN
BEGIN:VEVENT
UID:5e5f58fe44fce322bd8313f9@squarespace.com
DTSTAMP:20200325T040001Z
DTSTART:20200309T231500Z
DTEND:20200407T004500Z
SUMMARY:The Self Initiating Woman - Karam Kriya &amp\; Kundalini Yoga class 
END:VEVENT
END:VCALENDAR
