BEGIN:VCALENDAR
VERSION:2.0
PRODID:-//Squarespace Inc/Squarespace 6//v6//EN
BEGIN:VEVENT
UID:5e5dd51a5406da1b3934e2ff@squarespace.com
DTSTAMP:20200402T040635Z
DTSTART:20200312T230000Z
DTEND:20200410T003000Z
SUMMARY:Karam Kriya &amp\; Kundalini Yoga - The Authentic Self 
END:VEVENT
END:VCALENDAR
