BEGIN:VCALENDAR
VERSION:2.0
PRODID:-//Squarespace Inc/Squarespace 6//v6//EN
BEGIN:VEVENT
UID:5e2e98330047906a9bc6f089@squarespace.com
DTSTAMP:20200128T040459Z
DTSTART:20200204T001500Z
DTEND:20200206T013000Z
SUMMARY:Kundalini Yoga classes for Falling Together 
GEO:-32.0376;115.78688
LOCATION:Yoga on Harris\, 15 Harris Street\, Palmyra\, Australia
END:VEVENT
END:VCALENDAR
