BEGIN:VCALENDAR
VERSION:2.0
PRODID:-//Squarespace Inc/Squarespace 6//v6//EN
BEGIN:VEVENT
UID:5f788d3cc276087d2ccef52d@squarespace.com
DTSTAMP:20201006T114057Z
DTSTART:20201019T231500Z
DTEND:20201215T014500Z
SUMMARY:Kundalini Yoga for Women 
GEO:-32.0376;115.78688
LOCATION:Yoga on Harris\, 15 Harris St Palmyra\, Perth\, 6156\, Australia
END:VEVENT
END:VCALENDAR
