BEGIN:VCALENDAR
VERSION:2.0
PRODID:-//Squarespace Inc/Squarespace 6//v6//EN
BEGIN:VEVENT
UID:5e00870a1d437559f56726f9@squarespace.com
DTSTAMP:20191226T065200Z
DTSTART:20200106T110000Z
DTEND:20200110T123000Z
SUMMARY:Kundalini Yoga on the Beach 
GEO:-32.023174;115.751538
LOCATION:mosman leighton dog beach
END:VEVENT
END:VCALENDAR
