BEGIN:VCALENDAR
VERSION:2.0
PRODID:-//Squarespace Inc/Squarespace 6//v6//EN
BEGIN:VEVENT
UID:5e2e93eb2131710881a6f24c@squarespace.com
DTSTAMP:20200128T035855Z
DTSTART:20200131T100000Z
DTEND:20200131T120000Z
SUMMARY:BEACH KUNDALINI YOGA WITH GONG RELAXATION 
GEO:-32.009191;115.758919
LOCATION:mosman park beach\, 6162\, Australia
END:VEVENT
END:VCALENDAR
