BEGIN:VCALENDAR
VERSION:2.0
PRODID:-//Squarespace Inc/Squarespace 6//v6//EN
BEGIN:VEVENT
UID:5e009109a8e07744a19d07bd@squarespace.com
DTSTAMP:20200306T020859Z
DTSTART:20200117T000000Z
DTEND:20200131T003000Z
SUMMARY:3 Summer Classes for Taking Heart 
GEO:-32.0376;115.78688
LOCATION:Yoga on Harris\, 15 Harris Street\, Palmyra\, Australia
END:VEVENT
END:VCALENDAR
