BEGIN:VCALENDAR
VERSION:2.0
PRODID:-//Squarespace Inc/Squarespace 6//v6//EN
BEGIN:VEVENT
UID:5e1bd27ca252892821df8d04@squarespace.com
DTSTAMP:20200113T051345Z
DTSTART:20200119T210000Z
DTEND:20200119T230000Z
SUMMARY:Kundalini Yoga Workshop for taking heart 
GEO:-34.960689;117.355795
LOCATION:DENMARK YOGA CENTRE\, 4/39 Strickland St\, Denmark\, Australia
END:VEVENT
END:VCALENDAR
