BEGIN:VCALENDAR
VERSION:2.0
PRODID:-//Squarespace Inc/Squarespace 6//v6//EN
BEGIN:VEVENT
UID:5d1added8d3de7000196e891@squarespace.com
DTSTAMP:20190925T045732Z
DTSTART:20190725T230000Z
DTEND:20190927T003000Z
SUMMARY:Kundalini Yoga Open Class
GEO:-32.0376;115.78688
LOCATION:YOGA ON HARRIS\, 15 Harris Street\, Palmyra\, WA\, 6157\, Australi
 a
END:VEVENT
END:VCALENDAR
