BEGIN:VCALENDAR
VERSION:2.0
PRODID:-//Squarespace Inc/Squarespace 6//v6//EN
BEGIN:VEVENT
UID:5ca458f75ec7040001c6f31d@squarespace.com
DTSTAMP:20190618T073230Z
DTSTART:20190502T230000Z
DTEND:20190705T003000Z
SUMMARY:Form &amp\; Infinity ~ Kundalini Yoga Series 
END:VEVENT
END:VCALENDAR
