BEGIN:VCALENDAR
VERSION:2.0
PRODID:-//Squarespace Inc/Squarespace 6//v6//EN
BEGIN:VEVENT
UID:5ca0cb09ee6eb01a14aea6d0@squarespace.com
DTSTAMP:20190618T075242Z
DTSTART:20190404T230000Z
DTEND:20190419T090000Z
SUMMARY:Kundalini Yoga @ Yoga on Harris 
END:VEVENT
END:VCALENDAR
