BEGIN:VCALENDAR
VERSION:2.0
PRODID:-//Squarespace Inc/Squarespace 6//v6//EN
BEGIN:VEVENT
UID:5d0882edfa1a0b0001b09de5@squarespace.com
DTSTAMP:20190703T105240Z
DTSTART:20190722T230000Z
DTEND:20190924T010000Z
SUMMARY:Path 3 ~ Path of Service
GEO:40.720756;-74.000761
LOCATION:Palmyra Yoga Shala\, 63 McKimmie Road\, Palmyra\, WA\, 6157\, Aust
 ralia
END:VEVENT
END:VCALENDAR
