BEGIN:VCALENDAR
VERSION:2.0
PRODID:-//Squarespace Inc/Squarespace 6//v6//EN
BEGIN:VEVENT
UID:5c2d56ea03ce64bbaa31d4f0@squarespace.com
DTSTAMP:20190618T081810Z
DTSTART:20190118T000000Z
DTEND:20190322T003000Z
SUMMARY:Kundalini Yoga Open Class
END:VEVENT
END:VCALENDAR
