BEGIN:VCALENDAR
VERSION:2.0
PRODID:-//Squarespace Inc/Squarespace 6//v6//EN
BEGIN:VEVENT
UID:5c47f508c74c5023692c5afe@squarespace.com
DTSTAMP:20190618T073435Z
DTSTART:20190205T000000Z
DTEND:20190409T193000Z
SUMMARY:Path 1 ~ Path of the Mother 
END:VEVENT
END:VCALENDAR
