BEGIN:VCALENDAR
VERSION:2.0
PRODID:-//Squarespace Inc/Squarespace 6//v6//EN
BEGIN:VEVENT
UID:5c9445828165f52d5009a0a6@squarespace.com
DTSTAMP:20190618T073403Z
DTSTART:20190429T230000Z
DTEND:20190702T010000Z
SUMMARY:Path 2 ~ Path of the Beloved 
GEO:40.720756;-74.000761
LOCATION:Palmyra Yoga Shala\, 63 McKimmie Road\, Palmyra\, WA\, 6157\, Aust
 ralia
END:VEVENT
END:VCALENDAR
