BEGIN:VCALENDAR
VERSION:2.0
PRODID:-//Squarespace Inc/Squarespace 6//v6//EN
BEGIN:VEVENT
UID:5dc3b0cebc13a462d7f9a7b9@squarespace.com
DTSTAMP:20191113T062420Z
DTSTART:20191122T000000Z
DTEND:20191220T020000Z
SUMMARY:TOTAL TUNE UP 
GEO:-32.0376;115.78688
LOCATION:yoga on harris\, 15 Harris Street Palmyra\, Perth\,\, Australia
END:VEVENT
END:VCALENDAR
