BEGIN:VCALENDAR
VERSION:2.0
PRODID:-//Squarespace Inc/Squarespace 6//v6//EN
BEGIN:VEVENT
UID:5d8af52639a6ab43e0af8edc@squarespace.com
DTSTAMP:20191113T062925Z
DTSTART:20191018T003000Z
DTEND:20191220T020000Z
SUMMARY:Karam Kriya Applied Numerology ~ after Thursday evening yoga 
END:VEVENT
END:VCALENDAR
