BEGIN:VCALENDAR
VERSION:2.0
PRODID:-//Squarespace Inc/Squarespace 6//v6//EN
BEGIN:VEVENT
UID:5d8ae6a54cea087d126bf9ea@squarespace.com
DTSTAMP:20191016T025125Z
DTSTART:20191017T163000Z
DTEND:20191114T173000Z
SUMMARY:5 Sutras for the Aquarian Age ~ Kundalini Yoga 5 week series 
GEO:-32.0376;115.78688
LOCATION:yoga on harris\, 15 harris street\, palmyra\, australia
END:VEVENT
END:VCALENDAR
