BEGIN:VCALENDAR
VERSION:2.0
PRODID:-//Squarespace Inc/Squarespace 6//v6//EN
BEGIN:VEVENT
UID:5d79c33f4d30743198e681ec@squarespace.com
DTSTAMP:20190925T045148Z
DTSTART:20191014T160000Z
DTEND:20191216T173000Z
SUMMARY:Path 4 ~ Path of Self Realisation 
GEO:-32.045716;115.784492
LOCATION:Palmyra Yoga Shala\, 63 McKimmie Road\, Palmyra\, WA\, 6157\, Aust
 ralia
END:VEVENT
END:VCALENDAR
