BEGIN:VCALENDAR
VERSION:2.0
PRODID:-//Squarespace Inc/Squarespace 6//v6//EN
BEGIN:VEVENT
UID:5c41924d2b6a28e6c0cb6510@squarespace.com
DTSTAMP:20191113T062827Z
DTSTART:20190205T000000Z
DTEND:20191217T020000Z
SUMMARY:4 Paths of a Woman ~ Full 2019 Women's Programme
END:VEVENT
END:VCALENDAR
