BEGIN:VCALENDAR
VERSION:2.0
PRODID:-//Squarespace Inc/Squarespace 6//v6//EN
BEGIN:VEVENT
UID:5c3af4adc2241bdece79df3e@squarespace.com
DTSTAMP:20190618T075346Z
DTSTART:20190122T000000Z
DTEND:20190129T020000Z
SUMMARY:Free classes! Introducing.. 4 Paths of a Woman
GEO:-32.045716;115.784492
LOCATION:Palmyra Yoga Shala\, 63 McKimmie Road\, Palmyra\, Perth\, Western 
 Australia\, 6157\, Australia
END:VEVENT
END:VCALENDAR
