BEGIN:VCALENDAR
VERSION:2.0
PRODID:-//Squarespace Inc/Squarespace 6//v6//EN
BEGIN:VEVENT
UID:5b331fe303ce64de32a0589c@squarespace.com
DTSTAMP:20190618T081955Z
DTSTART:20180727T230000Z
DTEND:20180728T010000Z
SUMMARY:Kundalini Yoga Full Lunar Eclipse Intensive 
GEO:-32.045701;115.784511
LOCATION:Palmyra Yoga Shala\, 63 McKimmie Road\, Palmyra\, WA\, 6157\, Aust
 ralia
END:VEVENT
END:VCALENDAR
