BEGIN:VCALENDAR
VERSION:2.0
PRODID:-//Squarespace Inc/Squarespace 6//v6//EN
BEGIN:VEVENT
UID:5b44602f562fa7fde6fcc0bf@squarespace.com
DTSTAMP:20190618T082137Z
DTSTART:20180723T230000Z
DTEND:20180811T003000Z
SUMMARY:Kundalini Yoga for Women 
END:VEVENT
END:VCALENDAR
