BEGIN:VCALENDAR
VERSION:2.0
PRODID:-//Squarespace Inc/Squarespace 6//v6//EN
BEGIN:VEVENT
UID:5b208bea6d2a732939cf8fdd@squarespace.com
DTSTAMP:20190618T082242Z
DTSTART:20180629T230000Z
DTEND:20180630T010000Z
SUMMARY:Kundalini Yoga Intensive ~ Living with Altitude
GEO:-32.045716;115.784492
LOCATION:Palmyra Yoga Shala\, 63 McKimmie Road\, Palmyra\, WA\, 6157\, Aust
 ralia
END:VEVENT
END:VCALENDAR
