BEGIN:VCALENDAR
VERSION:2.0
PRODID:-//Squarespace Inc/Squarespace 6//v6//EN
BEGIN:VEVENT
UID:5a8f8d6d4192028702044d7b@squarespace.com
DTSTAMP:20180223T035833Z
DTSTART:20180302T110000Z
DTEND:20180302T123000Z
SUMMARY:Full Moon Early Morning Beach Yoga 
END:VEVENT
END:VCALENDAR
