BEGIN:VCALENDAR
VERSION:2.0
PRODID:-//Squarespace Inc/Squarespace 6//v6//EN
BEGIN:VEVENT
UID:5a8f7873f9619a72e89f5d24@squarespace.com
DTSTAMP:20191223T103709Z
DTSTART:20190306T100000Z
DTEND:20191225T122900Z
SUMMARY:Aquarian Sadhana on the Beach every Wednesday 
GEO:-32.023174;115.751538
LOCATION:Mosman Leighton Beach\, Australia
END:VEVENT
END:VCALENDAR
