BEGIN:VCALENDAR
VERSION:2.0
PRODID:-//Squarespace Inc/Squarespace 6//v6//EN
BEGIN:VEVENT
UID:5ad80bb6758d464041d3fa89@squarespace.com
DTSTAMP:20180627T061614Z
DTSTART:20180504T000000Z
DTEND:20180629T003000Z
SUMMARY:Kundalini Yoga 9 Week Series
GEO:-32.0376;115.78688
LOCATION:Yoga on Harris\, 15 Harris Street\, Palmyra\, WA\, 6157\, Australi
 a
END:VEVENT
END:VCALENDAR
