BEGIN:VCALENDAR
VERSION:2.0
PRODID:-//Squarespace Inc/Squarespace 6//v6//EN
BEGIN:VEVENT
UID:5b3317fc575d1f26aa16bc30@squarespace.com
DTSTAMP:20190618T082218Z
DTSTART:20180717T230000Z
DTEND:20180912T003000Z
SUMMARY:Kundalini Yoga 9 Week Series Term 3
GEO:-32.045701;115.784511
LOCATION:Palmyra Yoga Shala\, 63 McKimmie Road\, Palmyra\, WA\, 6157\, Aust
 ralia
END:VEVENT
END:VCALENDAR
