BEGIN:VCALENDAR
VERSION:2.0
PRODID:-//Squarespace Inc/Squarespace 6//v6//EN
BEGIN:VEVENT
UID:5b86068d0e2e728a42651baf@squarespace.com
DTSTAMP:20190618T081931Z
DTSTART:20181008T230000Z
DTEND:20181211T020000Z
SUMMARY:Bountiful Woman ~ 8 Aspects of Being Fully Woman
END:VEVENT
END:VCALENDAR
