BEGIN:VCALENDAR
VERSION:2.0
PRODID:-//Squarespace Inc/Squarespace 6//v6//EN
BEGIN:VEVENT
UID:5b8642d6c2241bd295d6330e@squarespace.com
DTSTAMP:20190618T081828Z
DTSTART:20181011T230000Z
DTEND:20181221T013000Z
SUMMARY:Kundalini Yoga Series - Your 10 Spiritual Bodies
END:VEVENT
END:VCALENDAR
