BEGIN:VCALENDAR
VERSION:2.0
PRODID:-//Squarespace Inc/Squarespace 6//v6//EN
BEGIN:VEVENT
UID:5a4b1d28652deacfab0e0479@squarespace.com
DTSTAMP:20180102T060629Z
DTSTART:20180112T000000Z
DTEND:20180112T020000Z
SUMMARY:2018 ~ Karam Kriya & Kundalini Yoga Mini Workshop
END:VEVENT
END:VCALENDAR
