BEGIN:VCALENDAR
VERSION:2.0
PRODID:-//Squarespace Inc/Squarespace 6//v6//EN
BEGIN:VEVENT
UID:59b657812994caee6bf23264@squarespace.com
DTSTAMP:20171017T141914Z
DTSTART:20171020T093000Z
DTEND:20171129T113000Z
SUMMARY:40 Day Sadhana 
END:VEVENT
END:VCALENDAR
