BEGIN:VCALENDAR
VERSION:2.0
PRODID:-//Squarespace Inc/Squarespace 6//v6//EN
BEGIN:VEVENT
UID:5a379c990d92972a19a68cf7@squarespace.com
DTSTAMP:20190618T082615Z
DTSTART:20180126T000000Z
DTEND:20180201T143000Z
SUMMARY:Kundalini Yoga Jan/Feb 2018
END:VEVENT
END:VCALENDAR
